BEGIN:VCALENDAR
VERSION:2.0
PRODID:-//Tukios.com/
BEGIN:VEVENT
UID:817d8daf-1060-4a5b-839c-c69bd68eed42@www.fpdevinefuneralhome.com
DTSTAMP:20260420T220227Z
DTSTART:20260425T170000Z
DTEND:20260425T180000Z
SUMMARY:Mass
DESCRIPTION:
URL:https://www.fpdevinefuneralhome.com/obituaries/rosalie-romano
LOCATION:Christ the King Roman Catholic Church 2 Indian Head Rd  Commack 
	NY 11725
GEO:40.8493808;-73.2797488
END:VEVENT
END:VCALENDAR